BEGIN:VCALENDAR
VERSION:2.0
PRODID:-//Eastern Sierra Land Trust - ECPv6.15.20//NONSGML v1.0//EN
CALSCALE:GREGORIAN
METHOD:PUBLISH
X-ORIGINAL-URL:https://eslt.org
X-WR-CALDESC:Events for Eastern Sierra Land Trust
REFRESH-INTERVAL;VALUE=DURATION:PT1H
X-Robots-Tag:noindex
X-PUBLISHED-TTL:PT1H
BEGIN:VTIMEZONE
TZID:America/Los_Angeles
BEGIN:DAYLIGHT
TZOFFSETFROM:-0800
TZOFFSETTO:-0700
TZNAME:PDT
DTSTART:20160313T100000
END:DAYLIGHT
BEGIN:STANDARD
TZOFFSETFROM:-0700
TZOFFSETTO:-0800
TZNAME:PST
DTSTART:20161106T090000
END:STANDARD
BEGIN:DAYLIGHT
TZOFFSETFROM:-0800
TZOFFSETTO:-0700
TZNAME:PDT
DTSTART:20170312T100000
END:DAYLIGHT
BEGIN:STANDARD
TZOFFSETFROM:-0700
TZOFFSETTO:-0800
TZNAME:PST
DTSTART:20171105T090000
END:STANDARD
BEGIN:DAYLIGHT
TZOFFSETFROM:-0800
TZOFFSETTO:-0700
TZNAME:PDT
DTSTART:20180311T100000
END:DAYLIGHT
BEGIN:STANDARD
TZOFFSETFROM:-0700
TZOFFSETTO:-0800
TZNAME:PST
DTSTART:20181104T090000
END:STANDARD
BEGIN:DAYLIGHT
TZOFFSETFROM:-0800
TZOFFSETTO:-0700
TZNAME:PDT
DTSTART:20190310T100000
END:DAYLIGHT
BEGIN:STANDARD
TZOFFSETFROM:-0700
TZOFFSETTO:-0800
TZNAME:PST
DTSTART:20191103T090000
END:STANDARD
BEGIN:DAYLIGHT
TZOFFSETFROM:-0800
TZOFFSETTO:-0700
TZNAME:PDT
DTSTART:20200308T100000
END:DAYLIGHT
BEGIN:STANDARD
TZOFFSETFROM:-0700
TZOFFSETTO:-0800
TZNAME:PST
DTSTART:20201101T090000
END:STANDARD
END:VTIMEZONE
BEGIN:VEVENT
DTSTART;TZID=America/Los_Angeles:20191029T170000
DTEND;TZID=America/Los_Angeles:20191029T183000
DTSTAMP:20260425T141305
CREATED:20190923T235429Z
LAST-MODIFIED:20190923T235828Z
UID:11294-1572368400-1572373800@eslt.org
SUMMARY:Fall Mixer and Volunteer Appreciation Party
DESCRIPTION:At our fall mixer\, we’ll be giving thanks to our incredible volunteers! Let’s enjoy snacks and drinks as we celebrate the folks who donate their time and skills towards protecting the Eastern Sierra for future generations. All are welcome (with or without Halloween costumes.) \nVolunteers\, we’re throwing a party for you! Come by for cake and festivities. We appreciate all your hard work\, and we look forward to celebrating your positive impact on Eastside conservation. \nRSVPs are helpful but not required. Please email Marie at  or call (760) 873 &#150; 4554 if you plan to attend.
URL:https://eslt.org/event/fall-mixer-volunteer-appreciation-party/
LOCATION:Eastern Sierra Land Trust Office Backyard\, 250 N. Fowler Street\, Bishop\, CA\, 93514\, United States
CATEGORIES:Volunteer Events
ATTACH;FMTTYPE=image/jpeg:https://eslt.org/wp-content/uploads/2019/09/GSRC_edit_KS-1-scaled.jpg
END:VEVENT
BEGIN:VEVENT
DTSTART;TZID=America/Los_Angeles:20190724T170000
DTEND;TZID=America/Los_Angeles:20190724T183000
DTSTAMP:20260425T141305
CREATED:20190627T182414Z
LAST-MODIFIED:20190627T230326Z
UID:10888-1563987600-1563993000@eslt.org
SUMMARY:Wild Side Backyard Mixer
DESCRIPTION:Come mingle at our WILD summer wildlife-themed mixer! We’ll snack and enjoy drinks while learning and chatting about animals. We’re looking forward to hearing fun facts and stories from other members of our local community who work alongside us protecting land for wildlife. Feel free to come with wildlife-related questions – we’ll be studying our sage grouse facts in the meantime. See you there! \nRSVPs are helpful but not required. Please email Marie at  or call (760) 873 &#150; 4554 if you plan to attend.
URL:https://eslt.org/event/wild-side-backyard-mixer/
LOCATION:Eastern Sierra Land Trust Office Backyard\, 250 N. Fowler Street\, Bishop\, CA\, 93514\, United States
ATTACH;FMTTYPE=image/jpeg:https://eslt.org/wp-content/uploads/2019/06/KS_Mixer_Edit-1@03x_rec.jpg
END:VEVENT
BEGIN:VEVENT
DTSTART;TZID=America/Los_Angeles:20190504T110000
DTEND;TZID=America/Los_Angeles:20190504T140000
DTSTAMP:20260425T141305
CREATED:20190226T185317Z
LAST-MODIFIED:20190430T163621Z
UID:9953-1556967600-1556978400@eslt.org
SUMMARY:GardenFest Celebration
DESCRIPTION:Come celebrate spring with us at our family-friendly annual GardenFest! This free\, family-friendly community event will be buzzing with activity! This Saturday\, you can…\n \n\nPurchase native plants from \,\nCollect seeds from the \,\nGather garden tips from \,\nLearn about rare springtime birds with \,\nEnjoy kids’ nature crafts\,\nWin raffle prizes from Eastern Sierra Land Trust and \,\nTaste craft beers from \,\nMunch brick-oven pizza from Pinon Pizza\,\nAnd more!\n\nYou can also learn more about our Eastside Pollinator Garden Project\, which helps local gardeners bring their gardens to life by attracting hummingbirds\, butterflies\, and other important pollinators. \nJoin the extravaganza this Saturday at 11AM\, after the Choo Choo Swap Meet. You can attend both\, so come out for a great Saturday in Bishop! \nQuestions? Ask Education Coordinator and AmeriCorps Member\, Marie Ring by emailing marie@eslt.org or by calling (760) 873-927.
URL:https://eslt.org/event/gardenfest-celebration-2019/
LOCATION:Eastern Sierra Land Trust Office Backyard\, 250 N. Fowler Street\, Bishop\, CA\, 93514\, United States
ATTACH;FMTTYPE=image/jpeg:https://eslt.org/wp-content/uploads/2018/04/GardenFest-Image-pc.jpg
ORGANIZER;CN="Marie%2C ESLT Education Coordinator and AmeriCorps Member":MAILTO:marie@eslt.org
END:VEVENT
BEGIN:VEVENT
DTSTART;TZID=America/Los_Angeles:20190123T170000
DTEND;TZID=America/Los_Angeles:20190123T183000
DTSTAMP:20260425T141305
CREATED:20181220T210338Z
LAST-MODIFIED:20181220T210338Z
UID:9753-1548262800-1548268200@eslt.org
SUMMARY:Open House Celebration at ESLT
DESCRIPTION:Join us as we meet and mingle with conservation partners and members like you\, then lift our glasses to celebrate a GREAT start to the New Year. Your RSVP is helpful – if you plan to attend\, please email .
URL:https://eslt.org/event/open-house-celebration-at-eslt/
LOCATION:Eastern Sierra Land Trust Office Backyard\, 250 N. Fowler Street\, Bishop\, CA\, 93514\, United States
ATTACH;FMTTYPE=image/jpeg:https://eslt.org/wp-content/uploads/2018/12/6.jpg
ORGANIZER;CN="Marie%2C ESLT Education Coordinator and AmeriCorps Member":MAILTO:marie@eslt.org
END:VEVENT
BEGIN:VEVENT
DTSTART;TZID=America/Los_Angeles:20180725T170000
DTEND;TZID=America/Los_Angeles:20180725T183000
DTSTAMP:20260425T141305
CREATED:20180702T174333Z
LAST-MODIFIED:20180702T180648Z
UID:9542-1532538000-1532543400@eslt.org
SUMMARY:Eastside Mixer
DESCRIPTION:Join Eastern Sierra Land Trust as we celebrate the wildlife that make our side of the Sierra so unique. On Wednesday July 25th from 5:00-6:30pm meet and mingle with other wildlife lovers for our Eastside Mixer. This free and casual event will be held at the Eastern Sierra Land Trust office at 250 N. Fowler St. in Bishop. We hope to see you there! \nFor more information or to RSVP\, please contact  or call (760)873-4554.
URL:https://eslt.org/event/eastside-mixer/
LOCATION:Eastern Sierra Land Trust Office Backyard\, 250 N. Fowler Street\, Bishop\, CA\, 93514\, United States
ATTACH;FMTTYPE=image/jpeg:https://eslt.org/wp-content/uploads/2018/07/MixerPhoto-e1530553353177.jpg
ORGANIZER;CN="Ryan Delaney%2C ESLT Education Coordinator & AmeriCorps Member":MAILTO:ryan@eslt.org
END:VEVENT
BEGIN:VEVENT
DTSTART;TZID=America/Los_Angeles:20180505T110000
DTEND;TZID=America/Los_Angeles:20180505T140000
DTSTAMP:20260425T141305
CREATED:20180403T002020Z
LAST-MODIFIED:20180426T175824Z
UID:9123-1525518000-1525528800@eslt.org
SUMMARY:GardenFest
DESCRIPTION:Come one\, come all to our annual GardenFest Celebration! \nHeld in our office backyard in Bishop\, this free\, family-friendly event celebrates the arrival of spring with plants and delicious food for purchase\, a free beer tasting\, live music\, children&#146;s games\, and more. \nBlooming trees are filled with birds singing their melodies as butterflies\, bees and hummingbirds bounce from flower to flower inspiring new life. In celebration of this magical time\, this year&#146;s GardenFest will feature: \n\nGardening tips and receive expert advice from local \nNative plants for sale by \nVegetable plant starts available for sale\nInformation about \n representatives on hand to answer your birding questions\nLive music\nDelicious brick-oven pizzas for purchase made on-site by Mark Wagner of \nNature-themed learning games for the kids\nKids raffle for a children&#146;s book on bees\nFree beer sampling by Bishop&#146;s \n\nGardenFest will also offer opportunities to learn about ESLT&#146;s \, and how you can transform your yard or garden into a pollinator haven. \nOur fun-filled event also coincides with  &#150; an annual\, statewide movement held every year on the first weekend in May with hopes to connect Californians of all ages with outdoor places and experiences. \nFor more information\,  today or call (760) 873-4554. We hope to see you there!
URL:https://eslt.org/event/gardenfest-2018/
LOCATION:Eastern Sierra Land Trust Office Backyard\, 250 N. Fowler Street\, Bishop\, CA\, 93514\, United States
ATTACH;FMTTYPE=image/jpeg:https://eslt.org/wp-content/uploads/2018/04/GardenFest-Image-pc.jpg
ORGANIZER;CN="Ryan Delaney%2C ESLT Education Coordinator & AmeriCorps Member":MAILTO:ryan@eslt.org
END:VEVENT
BEGIN:VEVENT
DTSTART;TZID=America/Los_Angeles:20180418T170000
DTEND;TZID=America/Los_Angeles:20180418T183000
DTSTAMP:20260425T141305
CREATED:20180406T203858Z
LAST-MODIFIED:20180406T203858Z
UID:9151-1524070800-1524076200@eslt.org
SUMMARY:Pollinator Party
DESCRIPTION:Join Eastern Sierra Land Trust for an informal gathering to celebrate butterflies\, bees\, and other pollinators – as well as all the local gardeners who are giving pollinators a home by creating Certified Pollinator Gardens through our . \nWe’ll enjoy snacks and drinks while mingling with friends and sharing gardening stories. You’ll also learn more about how the Eastside Pollinator Garden Project can help bring your garden to life by transforming it into a blooming haven for pollinators. \n\nAll Are Welcome  —  RSVP Helpful\n\nPlease  or call (760) 873-4554 if you plan to attend. While your RSVP isn’t required\, it will help us make sure that we have enough snacks and drinks for all.
URL:https://eslt.org/event/pollinator-party/
LOCATION:Eastern Sierra Land Trust Office Backyard\, 250 N. Fowler Street\, Bishop\, CA\, 93514\, United States
ATTACH;FMTTYPE=image/jpeg:https://eslt.org/wp-content/uploads/2018/04/Pollinator-Party-Email-Header.jpg
ORGANIZER;CN="Ryan Delaney%2C ESLT Education Coordinator & AmeriCorps Member":MAILTO:ryan@eslt.org
END:VEVENT
BEGIN:VEVENT
DTSTART;TZID=America/Los_Angeles:20170506T110000
DTEND;TZID=America/Los_Angeles:20170506T140000
DTSTAMP:20260425T141305
CREATED:20170306T155202Z
LAST-MODIFIED:20170310T231452Z
UID:7225-1494068400-1494079200@eslt.org
SUMMARY:GardenFest Celebration
DESCRIPTION:Calling all green thumbs: join us as we welcome spring at GardenFest! At this fun\, family-friendly community event\, you&#146;ll have the opportunity to purchase plants\, learn gardening tips and tricks\, listen to music\, sample local beers\, enjoy a brick oven pizza cooked on-site\, and more. \nOur annual GardenFest celebration is taking place this year on May 6 in honor of Take it Outside California\, an annual day for Californians across the state to get outside\, explore nature\, be active\, and appreciate all the great outdoor opportunities our state has to offer. Like Eastern Sierra Land Trust\, organizations all over California are planning fun\, free outdoor events for you and your family to enjoy. . \nFor more information about GardenFest\, including how you and your business can participate\, please contact Indigo Johnson\, ESLT Education Coordinator & AmeriCorps Member. Her information is printed below.
URL:https://eslt.org/event/gardenfest-celebration/
LOCATION:Eastern Sierra Land Trust Office Backyard\, 250 N. Fowler Street\, Bishop\, CA\, 93514\, United States
CATEGORIES:Pollinator Gardens
ATTACH;FMTTYPE=image/jpeg:https://eslt.org/wp-content/uploads/2016/05/gardenfest-2-e1620153928889.jpg
ORGANIZER;CN="Indigo Johnson":MAILTO:indigo@eslt.org
END:VEVENT
END:VCALENDAR