BEGIN:VCALENDAR
VERSION:2.0
PRODID:-//Eastern Sierra Land Trust - ECPv6.15.20//NONSGML v1.0//EN
CALSCALE:GREGORIAN
METHOD:PUBLISH
X-ORIGINAL-URL:https://eslt.org
X-WR-CALDESC:Events for Eastern Sierra Land Trust
REFRESH-INTERVAL;VALUE=DURATION:PT1H
X-Robots-Tag:noindex
X-PUBLISHED-TTL:PT1H
BEGIN:VTIMEZONE
TZID:America/Los_Angeles
BEGIN:DAYLIGHT
TZOFFSETFROM:-0800
TZOFFSETTO:-0700
TZNAME:PDT
DTSTART:20250309T100000
END:DAYLIGHT
BEGIN:STANDARD
TZOFFSETFROM:-0700
TZOFFSETTO:-0800
TZNAME:PST
DTSTART:20251102T090000
END:STANDARD
BEGIN:DAYLIGHT
TZOFFSETFROM:-0800
TZOFFSETTO:-0700
TZNAME:PDT
DTSTART:20260308T100000
END:DAYLIGHT
BEGIN:STANDARD
TZOFFSETFROM:-0700
TZOFFSETTO:-0800
TZNAME:PST
DTSTART:20261101T090000
END:STANDARD
BEGIN:DAYLIGHT
TZOFFSETFROM:-0800
TZOFFSETTO:-0700
TZNAME:PDT
DTSTART:20270314T100000
END:DAYLIGHT
BEGIN:STANDARD
TZOFFSETFROM:-0700
TZOFFSETTO:-0800
TZNAME:PST
DTSTART:20271107T090000
END:STANDARD
END:VTIMEZONE
BEGIN:VEVENT
DTSTART;TZID=America/Los_Angeles:20260502T110000
DTEND;TZID=America/Los_Angeles:20260502T140000
DTSTAMP:20260425T110003
CREATED:20260205T191344Z
LAST-MODIFIED:20260205T191413Z
UID:17509-1777719600-1777730400@eslt.org
SUMMARY:GardenFest 2026
DESCRIPTION:MAY 2\, 11AM-2PM! Kick off the growing season with us at GardenFest! The birds are singing\, flowers are blooming\, and the days are getting longer and warmer. Join us for an exciting celebration of springtime in ESLT’s backyard at 250 N. Fowler Street and the Church Street Parking lot. \nThis family-friendly community event will feature a native plant sale- with plants provided by California Native Plant Society\, Bristlecone Chapter. Stroll through the demonstration garden\, learn about native plants\, and celebrate spring with the Eastside community. \nNot convinced yet? We will also have live music to get the whole family moving and grooving. \nWe hope you join us for a fantastic Saturday in our backyard in Bishop. Don’t miss out on this fun and free family-friendly community event and get your garden growing.
URL:https://eslt.org/event/gardenfest-2026/
LOCATION:Eastern Sierra Land Trust Office Backyard\, 250 N. Fowler Street\, Bishop\, CA\, 93514\, United States
CATEGORIES:Pollinator Gardens
ATTACH;FMTTYPE=image/jpeg:https://eslt.org/wp-content/uploads/2026/02/IMG_8605-scaled.jpeg
END:VEVENT
BEGIN:VEVENT
DTSTART;TZID=America/Los_Angeles:20260617T160000
DTEND;TZID=America/Los_Angeles:20260617T180000
DTSTAMP:20260425T110003
CREATED:20260310T171043Z
LAST-MODIFIED:20260310T171238Z
UID:17555-1781712000-1781719200@eslt.org
SUMMARY:Pollinator Mixer
DESCRIPTION:Join Eastern Sierra Land Trust on Wednesday\, June 17\, from 4-6 pm for our annual Pollinator Mixer! It’s National Pollinator Week and we are celebrating in ESLT’s backyard! Kick off the summer with us while enjoying beverages\, appetizers\, and mingling with friends. We hope you can join us in our backyard at 250 N Fowler Street – be sure to check out our Demonstration Pollinator Garden in our front yard on your way in! \n 
URL:https://eslt.org/event/pollinator-mixer-2026/
LOCATION:Eastern Sierra Land Trust Office Backyard\, 250 N. Fowler Street\, Bishop\, CA\, 93514\, United States
CATEGORIES:Pollinator Gardens
ATTACH;FMTTYPE=image/jpeg:https://eslt.org/wp-content/uploads/2023/06/Pollinator-Mixer-Image.jpg
END:VEVENT
END:VCALENDAR