BEGIN:VCALENDAR
VERSION:2.0
PRODID:-//Eastern Sierra Land Trust - ECPv6.15.20//NONSGML v1.0//EN
CALSCALE:GREGORIAN
METHOD:PUBLISH
X-WR-CALNAME:Eastern Sierra Land Trust
X-ORIGINAL-URL:https://eslt.org
X-WR-CALDESC:Events for Eastern Sierra Land Trust
REFRESH-INTERVAL;VALUE=DURATION:PT1H
X-Robots-Tag:noindex
X-PUBLISHED-TTL:PT1H
BEGIN:VTIMEZONE
TZID:America/Los_Angeles
BEGIN:DAYLIGHT
TZOFFSETFROM:-0800
TZOFFSETTO:-0700
TZNAME:PDT
DTSTART:20250309T100000
END:DAYLIGHT
BEGIN:STANDARD
TZOFFSETFROM:-0700
TZOFFSETTO:-0800
TZNAME:PST
DTSTART:20251102T090000
END:STANDARD
BEGIN:DAYLIGHT
TZOFFSETFROM:-0800
TZOFFSETTO:-0700
TZNAME:PDT
DTSTART:20260308T100000
END:DAYLIGHT
BEGIN:STANDARD
TZOFFSETFROM:-0700
TZOFFSETTO:-0800
TZNAME:PST
DTSTART:20261101T090000
END:STANDARD
BEGIN:DAYLIGHT
TZOFFSETFROM:-0800
TZOFFSETTO:-0700
TZNAME:PDT
DTSTART:20270314T100000
END:DAYLIGHT
BEGIN:STANDARD
TZOFFSETFROM:-0700
TZOFFSETTO:-0800
TZNAME:PST
DTSTART:20271107T090000
END:STANDARD
END:VTIMEZONE
BEGIN:VEVENT
DTSTART;TZID=America/Los_Angeles:20260425T083000
DTEND;TZID=America/Los_Angeles:20260425T123000
DTSTAMP:20260424T104338
CREATED:20260321T093547Z
LAST-MODIFIED:20260325T153744Z
UID:17569-1777105800-1777120200@eslt.org
SUMMARY:Adobe Valley Wetlands Tour
DESCRIPTION:Join Eastern Sierra Land Trust for an immersive Adobe Valley Wetlands Tour exploring some of the region’s most remarkable protected landscapes. Guided by ESLT staff and conservation partners\, participants will visit Black Lake and Lower Adobe Ranch Preserves\, the River Spring Lakes Ecological Reserve\, and the Antelope Lake conservation easement. Along the way\, you’ll learn about the natural and cultural history of Adobe Valley\, the importance of wetland habitats\, and the diverse plant and wildlife species these special places support. \nWe will conclude the day with a group picnic—please bring your own lunch or something to share. ESLT will provide sides and refreshments. \nAdobe Valley is a unique area in Mono County\, accessed via Highway 120 East of Lee Vining and West of Benton. High-clearance vehicles and carpooling are recommended. \nTo RSVP\, use the form below.  If you have any questions\, please contact Gena Wood\, Community Connections Program Director at gena@eslt.org \n  \nRSVP Here!
URL:https://eslt.org/event/adobe-valley-tour/
CATEGORIES:Wildlife
ATTACH;FMTTYPE=image/png:https://eslt.org/wp-content/uploads/2026/03/Events-Featured-Image.png
END:VEVENT
END:VCALENDAR