BEGIN:VCALENDAR
VERSION:2.0
PRODID:-//Eastern Sierra Land Trust - ECPv6.15.20//NONSGML v1.0//EN
CALSCALE:GREGORIAN
METHOD:PUBLISH
X-WR-CALNAME:Eastern Sierra Land Trust
X-ORIGINAL-URL:https://eslt.org
X-WR-CALDESC:Events for Eastern Sierra Land Trust
REFRESH-INTERVAL;VALUE=DURATION:PT1H
X-Robots-Tag:noindex
X-PUBLISHED-TTL:PT1H
BEGIN:VTIMEZONE
TZID:America/Los_Angeles
BEGIN:DAYLIGHT
TZOFFSETFROM:-0800
TZOFFSETTO:-0700
TZNAME:PDT
DTSTART:20240310T100000
END:DAYLIGHT
BEGIN:STANDARD
TZOFFSETFROM:-0700
TZOFFSETTO:-0800
TZNAME:PST
DTSTART:20241103T090000
END:STANDARD
BEGIN:DAYLIGHT
TZOFFSETFROM:-0800
TZOFFSETTO:-0700
TZNAME:PDT
DTSTART:20250309T100000
END:DAYLIGHT
BEGIN:STANDARD
TZOFFSETFROM:-0700
TZOFFSETTO:-0800
TZNAME:PST
DTSTART:20251102T090000
END:STANDARD
BEGIN:DAYLIGHT
TZOFFSETFROM:-0800
TZOFFSETTO:-0700
TZNAME:PDT
DTSTART:20260308T100000
END:DAYLIGHT
BEGIN:STANDARD
TZOFFSETFROM:-0700
TZOFFSETTO:-0800
TZNAME:PST
DTSTART:20261101T090000
END:STANDARD
END:VTIMEZONE
BEGIN:VEVENT
DTSTART;TZID=America/Los_Angeles:20250227T160000
DTEND;TZID=America/Los_Angeles:20250227T180000
DTSTAMP:20260421T104406
CREATED:20250221T184535Z
LAST-MODIFIED:20250221T184535Z
UID:17193-1740672000-1740679200@eslt.org
SUMMARY:Cheers to Community Happy Hour
DESCRIPTION:Join us for an ESLT Community Happy Hour as come together and raise a glass to good company and open spaces! \nIn changing times\, community and resilience go hand in hand. Let’s gather\, appreciate our shared strength\, and recognize the incredible people who make the Eastern Sierra unique. \nWe’ll have snacks ready\, and while we will have some beverages\, you’re welcome to bring your favorite drink to share (or just for yourself—we don’t judge!). \nWhether you’re looking to unwind\, connect\, or just enjoy some laughter with friends\, this is the perfect place to be. \nRSVP if you can to info@eslt.org\, or just swing by! We’d love to see you.
URL:https://eslt.org/event/cheers-to-community-happy-hour/
LOCATION:Eastern Sierra Land Trust Office Backyard\, 250 N. Fowler Street\, Bishop\, CA\, 93514\, United States
ATTACH;FMTTYPE=image/jpeg:https://eslt.org/wp-content/uploads/2025/02/denys-nevozhai-UNv2lxq8Rmo-unsplash.jpg
END:VEVENT
END:VCALENDAR