BEGIN:VCALENDAR
VERSION:2.0
PRODID:-//Eastern Sierra Land Trust - ECPv6.15.20//NONSGML v1.0//EN
CALSCALE:GREGORIAN
METHOD:PUBLISH
X-WR-CALNAME:Eastern Sierra Land Trust
X-ORIGINAL-URL:https://eslt.org
X-WR-CALDESC:Events for Eastern Sierra Land Trust
REFRESH-INTERVAL;VALUE=DURATION:PT1H
X-Robots-Tag:noindex
X-PUBLISHED-TTL:PT1H
BEGIN:VTIMEZONE
TZID:America/Los_Angeles
BEGIN:DAYLIGHT
TZOFFSETFROM:-0800
TZOFFSETTO:-0700
TZNAME:PDT
DTSTART:20230312T100000
END:DAYLIGHT
BEGIN:STANDARD
TZOFFSETFROM:-0700
TZOFFSETTO:-0800
TZNAME:PST
DTSTART:20231105T090000
END:STANDARD
BEGIN:DAYLIGHT
TZOFFSETFROM:-0800
TZOFFSETTO:-0700
TZNAME:PDT
DTSTART:20240310T100000
END:DAYLIGHT
BEGIN:STANDARD
TZOFFSETFROM:-0700
TZOFFSETTO:-0800
TZNAME:PST
DTSTART:20241103T090000
END:STANDARD
BEGIN:DAYLIGHT
TZOFFSETFROM:-0800
TZOFFSETTO:-0700
TZNAME:PDT
DTSTART:20250309T100000
END:DAYLIGHT
BEGIN:STANDARD
TZOFFSETFROM:-0700
TZOFFSETTO:-0800
TZNAME:PST
DTSTART:20251102T090000
END:STANDARD
END:VTIMEZONE
BEGIN:VEVENT
DTSTART;TZID=America/Los_Angeles:20240609T060000
DTEND;TZID=America/Los_Angeles:20240609T130000
DTSTAMP:20260421T085258
CREATED:20240508T181514Z
LAST-MODIFIED:20240509T232715Z
UID:16909-1717912800-1717938000@eslt.org
SUMMARY:Swall Meadows BioBlitz!
DESCRIPTION:Join us on Sunday\, June 9th for a special BioBlitz event with conservation easement landowners in Swall Meadows. A BioBlitz is a communal citizen-science effort to record as many species within a designated location and time period as possible. We will record what we find in iNaturalist and be joined by local experts on our area’s natural history. This is a great event for anyone who is passionate about this area\, wants to learn more\, or who wants to share their knowledge. From botanists to ornithologists (birds) to entomologists (insects)\, we welcome all nature nerds! This event will be open to all ages and skill levels.\n\n\nDate: Sunday\, June 9 \nTime: 6:00am -1:00pm Join us for the whole day or just a few hours. \n____________________________ \n6:00am- Coffee and pastries \n6:30-8:45am Birds \n9:00am- 11:00am Insects \n9:00am- 11:00am Plants\, Bryophytes\, and Fungi \n11:00am- 1:00pm General: Mammals and Miscellaneous \n______________________________ \nDriving and parking directions\, with additional information\, will be emailed to all who RSVP by June 7 \n\nTo RSVP- please use this GOOGLE FORM . If you have any questions contact Gena Wood\, ESLT Community Connections Program Manager at gena@eslt.org or 760-873-4554. \n  \nRSVP Now.
URL:https://eslt.org/event/swall-meadows-bioblitz/
ATTACH;FMTTYPE=image/jpeg:https://eslt.org/wp-content/uploads/2024/05/Swall-header-scaled.jpg
END:VEVENT
END:VCALENDAR