BEGIN:VCALENDAR
VERSION:2.0
PRODID:-//Eastern Sierra Land Trust - ECPv6.15.20//NONSGML v1.0//EN
CALSCALE:GREGORIAN
METHOD:PUBLISH
X-WR-CALNAME:Eastern Sierra Land Trust
X-ORIGINAL-URL:https://eslt.org
X-WR-CALDESC:Events for Eastern Sierra Land Trust
REFRESH-INTERVAL;VALUE=DURATION:PT1H
X-Robots-Tag:noindex
X-PUBLISHED-TTL:PT1H
BEGIN:VTIMEZONE
TZID:America/Los_Angeles
BEGIN:DAYLIGHT
TZOFFSETFROM:-0800
TZOFFSETTO:-0700
TZNAME:PDT
DTSTART:20230312T100000
END:DAYLIGHT
BEGIN:STANDARD
TZOFFSETFROM:-0700
TZOFFSETTO:-0800
TZNAME:PST
DTSTART:20231105T090000
END:STANDARD
BEGIN:DAYLIGHT
TZOFFSETFROM:-0800
TZOFFSETTO:-0700
TZNAME:PDT
DTSTART:20240310T100000
END:DAYLIGHT
BEGIN:STANDARD
TZOFFSETFROM:-0700
TZOFFSETTO:-0800
TZNAME:PST
DTSTART:20241103T090000
END:STANDARD
BEGIN:DAYLIGHT
TZOFFSETFROM:-0800
TZOFFSETTO:-0700
TZNAME:PDT
DTSTART:20250309T100000
END:DAYLIGHT
BEGIN:STANDARD
TZOFFSETFROM:-0700
TZOFFSETTO:-0800
TZNAME:PST
DTSTART:20251102T090000
END:STANDARD
END:VTIMEZONE
BEGIN:VTIMEZONE
TZID:UTC
BEGIN:STANDARD
TZOFFSETFROM:+0000
TZOFFSETTO:+0000
TZNAME:UTC
DTSTART:20230101T000000
END:STANDARD
END:VTIMEZONE
BEGIN:VEVENT
DTSTART;TZID=America/Los_Angeles:20240528T080000
DTEND;TZID=America/Los_Angeles:20240528T120000
DTSTAMP:20260421T135729
CREATED:20240513T163943Z
LAST-MODIFIED:20240523T194118Z
UID:16918-1716883200-1716897600@eslt.org
SUMMARY:Stewardship Day at Black Lake Preserve
DESCRIPTION:Join us on Tuesday\, May 28th at 8:00am for a good day of hard work in the Eastern Sierra!\n\n\n\nWe will be removing debris from the Preserve\, including old fencing material\, railroad ties\, barbed wire\, a large wooden trough and shed\, and some minor fence repair.\n\n\nWhen: Volunteers will meet on Tuesday\, May 28th at 8:00am at ESLT office (250 N. Fowler Street in Bishop) and then carpool to Black Lake Preserve.\n\nEvent open to public\, please RSVP\, limit to 20-25 people.\n\n\nCollaborators: BLM\, Redlands University\, and Mono County.\n\n\n\n\nRemember to bring boots\, hats to protect from sun and bugs\, gloves\, sunscreen\, lots of water\, and your own tools if you would like to use them. Shared tools and gloves will also be available.\n\nRSVP Now!
URL:https://eslt.org/event/stewardshipdayblacklake2024/
ATTACH;FMTTYPE=image/jpeg:https://eslt.org/wp-content/uploads/2024/05/DSC0044.jpg
END:VEVENT
BEGIN:VEVENT
DTSTART;TZID=UTC:20240601T083000
DTEND;TZID=UTC:20240601T130000
DTSTAMP:20260421T135729
CREATED:20240508T190104Z
LAST-MODIFIED:20240509T204103Z
UID:16911-1717230600-1717246800@eslt.org
SUMMARY:Pollinator Garden Inspiration Tour
DESCRIPTION:Our neighbors have been hard at work creating gardens filled with flourishing native and pollinator-friendly plants! Join our tour for the opportunity to see some beautiful and creative pollinator-friendly gardens in Bishop and Chalfant. Come away with tons of inspiration for your very own yard. You will get exclusive access to these gardens and the chance to ask the gardeners all of your burning questions about native plants! Mark your calendar for June 1 from 8:30 am to 12:30 pm and please RSVP to with this RSVP form. \nYou can pick up a map and itinerary at the start of the tour from 8:30 am-9:00 am at ESLT’s office and demonstration garden at 250 N. Fowler Street. Coffee and pastries will be provided. \nThe tours will conclude at 12:00pm where we will have refreshments and fresh fruit. \n 
URL:https://eslt.org/event/pollinator-garden-inspiration-tour/
ATTACH;FMTTYPE=image/jpeg:https://eslt.org/wp-content/uploads/2022/05/Garden-Tour_.jpg
ORGANIZER;CN="Claire%2C ESLT Education Coordinator and AmeriCorps Member":MAILTO:claire@eslt.org
END:VEVENT
END:VCALENDAR