BEGIN:VCALENDAR
VERSION:2.0
PRODID:-//Eastern Sierra Land Trust - ECPv6.15.20//NONSGML v1.0//EN
CALSCALE:GREGORIAN
METHOD:PUBLISH
X-ORIGINAL-URL:https://eslt.org
X-WR-CALDESC:Events for Eastern Sierra Land Trust
REFRESH-INTERVAL;VALUE=DURATION:PT1H
X-Robots-Tag:noindex
X-PUBLISHED-TTL:PT1H
BEGIN:VTIMEZONE
TZID:America/Los_Angeles
BEGIN:DAYLIGHT
TZOFFSETFROM:-0800
TZOFFSETTO:-0700
TZNAME:PDT
DTSTART:20180311T100000
END:DAYLIGHT
BEGIN:STANDARD
TZOFFSETFROM:-0700
TZOFFSETTO:-0800
TZNAME:PST
DTSTART:20181104T090000
END:STANDARD
BEGIN:DAYLIGHT
TZOFFSETFROM:-0800
TZOFFSETTO:-0700
TZNAME:PDT
DTSTART:20190310T100000
END:DAYLIGHT
BEGIN:STANDARD
TZOFFSETFROM:-0700
TZOFFSETTO:-0800
TZNAME:PST
DTSTART:20191103T090000
END:STANDARD
BEGIN:DAYLIGHT
TZOFFSETFROM:-0800
TZOFFSETTO:-0700
TZNAME:PDT
DTSTART:20200308T100000
END:DAYLIGHT
BEGIN:STANDARD
TZOFFSETFROM:-0700
TZOFFSETTO:-0800
TZNAME:PST
DTSTART:20201101T090000
END:STANDARD
END:VTIMEZONE
BEGIN:VEVENT
DTSTART;VALUE=DATE:20190830
DTEND;VALUE=DATE:20190902
DTSTAMP:20260422T051935
CREATED:20190520T201839Z
LAST-MODIFIED:20190722T164754Z
UID:10504-1567123200-1567382399@eslt.org
SUMMARY:Lands & Legacy Celebration
DESCRIPTION:Tickets are live! Please visit our Lands & Legacy webpage for information and to secure your tickets: \n  \nClick Here for More Information and Tickets!\n  \n 
URL:https://eslt.org/event/lands-legacy-celebration-2/
LOCATION:Parallax Restaurant\, 1 Minaret Road\, Mammoth\, CA\, 93546\, United States
ATTACH;FMTTYPE=image/jpeg:https://eslt.org/wp-content/uploads/2019/05/owens-river-sunset_pc_top-scaled.jpg
END:VEVENT
BEGIN:VEVENT
DTSTART;TZID=America/Los_Angeles:20190906T080000
DTEND;TZID=America/Los_Angeles:20190906T120000
DTSTAMP:20260422T051935
CREATED:20190722T221138Z
LAST-MODIFIED:20190903T165232Z
UID:11144-1567756800-1567771200@eslt.org
SUMMARY:Volunteer Day: Sage-Grouse Habitat Enhancement
DESCRIPTION:Come help Eastern Sierra Land Trust and the Bureau of Land Management as we team up to care for land where our Bi-State sage-grouse live\, for two back-to-back Stewardship Days. On September 6th and 7th\, we need as many hands as possible to work on habitat enhancement projects on land that the sage-grouse calls home. \nWe will be using hand tools to convert a permanent fence to a let-down fence\, and we’ll be maintaining other fences in the area. Let-down fences are able to lay flat on the ground during peak sage-grouse breeding season\, and then are able to be put back up during grazing season. This helps sage-grouse\, pronghorn\, and mule deer migrate safely. \nBoth workdays are family friendly\, and all are invited to lend a hand. Please bring a hat\, closed-toe shoes\, sunscreen\, a camera\, and water. Please leave pets at home. Follow the event on our  \nFor more information or to volunteer\, please contact Marie at marie@eslt.org or (760) 873 &#150; 4554. See you there! \nPhoto by Bob Wick\, BLM. \nDriving Directions: \nThese stewardship events will meet at Bodie State Park at 8 a.m. each morning and end onsite at 12 p.m.  From Bishop\, drive north on Highway 395\, turn onto Hwy 270/Bodie Road and continue past the guard station at the State Park entrance. Meet in the parking lot with the restrooms. We can caravan to the work site.
URL:https://eslt.org/event/sage-grouse-habitat-enhancement-volunteer-day/2019-09-06/
ATTACH;FMTTYPE=image/jpeg:https://eslt.org/wp-content/uploads/2019/07/sage-grouse-3.jpg
ORGANIZER;CN="Marie%2C ESLT Education Coordinator and AmeriCorps Member":MAILTO:marie@eslt.org
END:VEVENT
END:VCALENDAR