BEGIN:VCALENDAR
VERSION:2.0
PRODID:-//Eastern Sierra Land Trust - ECPv6.15.20//NONSGML v1.0//EN
CALSCALE:GREGORIAN
METHOD:PUBLISH
X-ORIGINAL-URL:https://eslt.org
X-WR-CALDESC:Events for Eastern Sierra Land Trust
REFRESH-INTERVAL;VALUE=DURATION:PT1H
X-Robots-Tag:noindex
X-PUBLISHED-TTL:PT1H
BEGIN:VTIMEZONE
TZID:America/Los_Angeles
BEGIN:DAYLIGHT
TZOFFSETFROM:-0800
TZOFFSETTO:-0700
TZNAME:PDT
DTSTART:20180311T100000
END:DAYLIGHT
BEGIN:STANDARD
TZOFFSETFROM:-0700
TZOFFSETTO:-0800
TZNAME:PST
DTSTART:20181104T090000
END:STANDARD
BEGIN:DAYLIGHT
TZOFFSETFROM:-0800
TZOFFSETTO:-0700
TZNAME:PDT
DTSTART:20190310T100000
END:DAYLIGHT
BEGIN:STANDARD
TZOFFSETFROM:-0700
TZOFFSETTO:-0800
TZNAME:PST
DTSTART:20191103T090000
END:STANDARD
BEGIN:DAYLIGHT
TZOFFSETFROM:-0800
TZOFFSETTO:-0700
TZNAME:PDT
DTSTART:20200308T100000
END:DAYLIGHT
BEGIN:STANDARD
TZOFFSETFROM:-0700
TZOFFSETTO:-0800
TZNAME:PST
DTSTART:20201101T090000
END:STANDARD
END:VTIMEZONE
BEGIN:VEVENT
DTSTART;TZID=America/Los_Angeles:20190816T170000
DTEND;TZID=America/Los_Angeles:20190816T203000
DTSTAMP:20260422T001427
CREATED:20190710T174752Z
LAST-MODIFIED:20190722T163038Z
UID:11001-1565974800-1565987400@eslt.org
SUMMARY:Summer Garden Concert with Chris Webster and Nina Gerber
DESCRIPTION:Enjoy Chris Webster’s elegant voice and Nina Gerber’s exquisite guitar in a charming garden venue in Round Valley. Their sharp\, folksy music pairs perfectly with the visual electricity of a Sierra sunset. Scroll down to secure your ticket so you can join us to experience the harmony! \nTheir stage will be set in our Executive Director Kay Ogden’s own garden\, for an intimate musical experience with a tall mountain backdrop. Tickets are $35. \nThere’s limited space\, so make sure to secure your ticket today! \nClick Here For Tickets\n  \nAs the duo plays\, our local friends with Piñon Pizza will be crafting custom pizzas. They’ll be available for purchase at the event along with wine generously donated by Sonoma Wine Company and locally-brewed beer\, all at a no-host bar. \nThere will be limited seating available with advance notice. Please bring your own chair or blanket if you can\, so you may sit while enjoying food and music. \nIf you have any questions\, you may reach out to our Membership Coordinator Kristen Pfeiler at  or 760-873-4554. Once you purchase your tickets\, we’ll make sure to keep you up to date with the latest information about driving directions and other details. \nPhoto of Chris Webster and Nina Gerber playing is by Tim Konrad. Photos courtesy of Chris Webster and Nina Gerber.
URL:https://eslt.org/event/chris-webster-and-nina-gerber/
LOCATION:Round Valley
ATTACH;FMTTYPE=image/jpeg:https://eslt.org/wp-content/uploads/2019/07/BandEditSmallPC.jpg
END:VEVENT
END:VCALENDAR