BEGIN:VCALENDAR
VERSION:2.0
PRODID:-//Eastern Sierra Land Trust - ECPv6.15.20//NONSGML v1.0//EN
CALSCALE:GREGORIAN
METHOD:PUBLISH
X-ORIGINAL-URL:https://eslt.org
X-WR-CALDESC:Events for Eastern Sierra Land Trust
REFRESH-INTERVAL;VALUE=DURATION:PT1H
X-Robots-Tag:noindex
X-PUBLISHED-TTL:PT1H
BEGIN:VTIMEZONE
TZID:America/Los_Angeles
BEGIN:DAYLIGHT
TZOFFSETFROM:-0800
TZOFFSETTO:-0700
TZNAME:PDT
DTSTART:20180311T100000
END:DAYLIGHT
BEGIN:STANDARD
TZOFFSETFROM:-0700
TZOFFSETTO:-0800
TZNAME:PST
DTSTART:20181104T090000
END:STANDARD
BEGIN:DAYLIGHT
TZOFFSETFROM:-0800
TZOFFSETTO:-0700
TZNAME:PDT
DTSTART:20190310T100000
END:DAYLIGHT
BEGIN:STANDARD
TZOFFSETFROM:-0700
TZOFFSETTO:-0800
TZNAME:PST
DTSTART:20191103T090000
END:STANDARD
BEGIN:DAYLIGHT
TZOFFSETFROM:-0800
TZOFFSETTO:-0700
TZNAME:PDT
DTSTART:20200308T100000
END:DAYLIGHT
BEGIN:STANDARD
TZOFFSETFROM:-0700
TZOFFSETTO:-0800
TZNAME:PST
DTSTART:20201101T090000
END:STANDARD
END:VTIMEZONE
BEGIN:VEVENT
DTSTART;TZID=America/Los_Angeles:20190810T090000
DTEND;TZID=America/Los_Angeles:20190810T130000
DTSTAMP:20260421T222657
CREATED:20190723T174743Z
LAST-MODIFIED:20190723T184017Z
UID:11154-1565427600-1565442000@eslt.org
SUMMARY:Crayons & Paint: Art in Nature
DESCRIPTION:Looking for a fun and family-friendly way to get out in nature? Join us for a free morning of creative fun at Karen&#146;s Preserve (south of Crowley Lake) on August 10th from 9 a.m. &#150; 1 p.m. \nBring your children\, grandchildren\, or other little loved ones and have a blast getting creative in nature. \nAt Crayons & Paint there will be fun educational games about local wildlife\, native plants\, animal tracks\, and more. We will work on unique nature-inspired art projects including clay leaf prints while watching a live painting demo with local artist Lynn Marit Peterson. \nThere will be an optional bring-your-own picnic lunch with a special treat provided by ESLT and all participants will leave with an activity book to keep the outdoor fun going all summer long. Children ages 5 &#150; 12 and their families are welcome. \nCommunity members without children are encouraged to join Crayons & Paint as a volunteer\, where they can help organize and run activities alongside other ESLT volunteers. \nAttendance at this event is limited. For more information and to RSVP please contact Marie at marie@eslt.org or call (760) 873 &#150; 4554. \nPhotos by Amy Leist. \n  \n 
URL:https://eslt.org/event/crayons-paint-art-in-nature/
LOCATION:Karen’s Preserve
ATTACH;FMTTYPE=image/jpeg:https://eslt.org/wp-content/uploads/2019/07/Crayons-and-Paint-Silly-Picture-scaled.jpg
ORGANIZER;CN="Marie%2C ESLT Education Coordinator and AmeriCorps Member":MAILTO:marie@eslt.org
END:VEVENT
END:VCALENDAR