BEGIN:VCALENDAR
VERSION:2.0
PRODID:-//Eastern Sierra Land Trust - ECPv6.15.20//NONSGML v1.0//EN
CALSCALE:GREGORIAN
METHOD:PUBLISH
X-WR-CALNAME:Eastern Sierra Land Trust
X-ORIGINAL-URL:https://eslt.org
X-WR-CALDESC:Events for Eastern Sierra Land Trust
REFRESH-INTERVAL;VALUE=DURATION:PT1H
X-Robots-Tag:noindex
X-PUBLISHED-TTL:PT1H
BEGIN:VTIMEZONE
TZID:America/Los_Angeles
BEGIN:DAYLIGHT
TZOFFSETFROM:-0800
TZOFFSETTO:-0700
TZNAME:PDT
DTSTART:20180311T100000
END:DAYLIGHT
BEGIN:STANDARD
TZOFFSETFROM:-0700
TZOFFSETTO:-0800
TZNAME:PST
DTSTART:20181104T090000
END:STANDARD
BEGIN:DAYLIGHT
TZOFFSETFROM:-0800
TZOFFSETTO:-0700
TZNAME:PDT
DTSTART:20190310T100000
END:DAYLIGHT
BEGIN:STANDARD
TZOFFSETFROM:-0700
TZOFFSETTO:-0800
TZNAME:PST
DTSTART:20191103T090000
END:STANDARD
BEGIN:DAYLIGHT
TZOFFSETFROM:-0800
TZOFFSETTO:-0700
TZNAME:PDT
DTSTART:20200308T100000
END:DAYLIGHT
BEGIN:STANDARD
TZOFFSETFROM:-0700
TZOFFSETTO:-0800
TZNAME:PST
DTSTART:20201101T090000
END:STANDARD
END:VTIMEZONE
BEGIN:VEVENT
DTSTART;TZID=America/Los_Angeles:20190511T080000
DTEND;TZID=America/Los_Angeles:20190511T103000
DTSTAMP:20260421T171022
CREATED:20190311T183646Z
LAST-MODIFIED:20190429T181616Z
UID:10084-1557561600-1557570600@eslt.org
SUMMARY:Migratory Bird Day at Black Lake Preserve
DESCRIPTION:Come celebrate International Migratory Bird Day with ESLT and the Eastern Sierra Audubon Society! \nInternational Migratory Bird Day is May 11th and to celebrate\, we will be hosting a day of bird spotting and a walk-about at our beautiful . Come spend the morning alongside the Eastern Sierra Audubon Society’s experts as we all view the many local and migratory species that call this unique alkali lake home. \nAll birding levels are welcome – kids included! Please leave your pets at home. For directions and to RSVP\, contact Marie at marie@eslt.org or at (760) 873-4554.
URL:https://eslt.org/event/black-lake-birding-tour/
LOCATION:Black Lake Preserve
ATTACH;FMTTYPE=image/jpeg:https://eslt.org/wp-content/uploads/2019/03/Migratory-Bird-Day-FB-event-image.jpg
ORGANIZER;CN="Marie%2C ESLT Education Coordinator and AmeriCorps Member":MAILTO:marie@eslt.org
END:VEVENT
END:VCALENDAR