BEGIN:VCALENDAR
VERSION:2.0
PRODID:-//Eastern Sierra Land Trust - ECPv6.15.20//NONSGML v1.0//EN
CALSCALE:GREGORIAN
METHOD:PUBLISH
X-WR-CALNAME:Eastern Sierra Land Trust
X-ORIGINAL-URL:https://eslt.org
X-WR-CALDESC:Events for Eastern Sierra Land Trust
REFRESH-INTERVAL;VALUE=DURATION:PT1H
X-Robots-Tag:noindex
X-PUBLISHED-TTL:PT1H
BEGIN:VTIMEZONE
TZID:America/Los_Angeles
BEGIN:DAYLIGHT
TZOFFSETFROM:-0800
TZOFFSETTO:-0700
TZNAME:PDT
DTSTART:20180311T100000
END:DAYLIGHT
BEGIN:STANDARD
TZOFFSETFROM:-0700
TZOFFSETTO:-0800
TZNAME:PST
DTSTART:20181104T090000
END:STANDARD
BEGIN:DAYLIGHT
TZOFFSETFROM:-0800
TZOFFSETTO:-0700
TZNAME:PDT
DTSTART:20190310T100000
END:DAYLIGHT
BEGIN:STANDARD
TZOFFSETFROM:-0700
TZOFFSETTO:-0800
TZNAME:PST
DTSTART:20191103T090000
END:STANDARD
BEGIN:DAYLIGHT
TZOFFSETFROM:-0800
TZOFFSETTO:-0700
TZNAME:PDT
DTSTART:20200308T100000
END:DAYLIGHT
BEGIN:STANDARD
TZOFFSETFROM:-0700
TZOFFSETTO:-0800
TZNAME:PST
DTSTART:20201101T090000
END:STANDARD
END:VTIMEZONE
BEGIN:VEVENT
DTSTART;TZID=America/Los_Angeles:20190406T100000
DTEND;TZID=America/Los_Angeles:20190406T133000
DTSTAMP:20260421T172734
CREATED:20190226T185544Z
LAST-MODIFIED:20190418T200026Z
UID:9948-1554544800-1554557400@eslt.org
SUMMARY:Pollinator Garden Workshop
DESCRIPTION:Are you interested in learning how you can create a pollinator friendly garden? Do you already have a certified Eastside Pollinator Garden and want to know what else you can do to help pollinators? Either way\, please join our free Pollinator Garden Workshop! \nLocal guest speakers will present on butterflies\, bees\, birds and the benefits of creating a pollinator friendly garden. Beginning this year\, we are hosting a post-workshop potluck where you can learn about taking your pollinator-friendly gardening to the next level. \nThe Pollinator Garden Workshop will be held from 10:00 AM until 12:00 PM\, and will be immediately followed by the potluck. \nFor more information or to RSVP\, please contact Marie at  or call (760) 873 &#150; 4554.
URL:https://eslt.org/event/pollinator-garden-workshop-3/
LOCATION:Inyo Council for the Arts\, 137 S Main Street\, Bishop\, CA\, 93514\, United States
CATEGORIES:Pollinator Gardens
ATTACH;FMTTYPE=image/jpeg:https://eslt.org/wp-content/uploads/2018/04/Bee_Joan-Clayburgh.jpg
ORGANIZER;CN="Marie%2C ESLT Education Coordinator and AmeriCorps Member":MAILTO:marie@eslt.org
END:VEVENT
END:VCALENDAR