BEGIN:VCALENDAR
VERSION:2.0
PRODID:-//Eastern Sierra Land Trust - ECPv6.15.20//NONSGML v1.0//EN
CALSCALE:GREGORIAN
METHOD:PUBLISH
X-ORIGINAL-URL:https://eslt.org
X-WR-CALDESC:Events for Eastern Sierra Land Trust
REFRESH-INTERVAL;VALUE=DURATION:PT1H
X-Robots-Tag:noindex
X-PUBLISHED-TTL:PT1H
BEGIN:VTIMEZONE
TZID:America/Los_Angeles
BEGIN:DAYLIGHT
TZOFFSETFROM:-0800
TZOFFSETTO:-0700
TZNAME:PDT
DTSTART:20180311T100000
END:DAYLIGHT
BEGIN:STANDARD
TZOFFSETFROM:-0700
TZOFFSETTO:-0800
TZNAME:PST
DTSTART:20181104T090000
END:STANDARD
BEGIN:DAYLIGHT
TZOFFSETFROM:-0800
TZOFFSETTO:-0700
TZNAME:PDT
DTSTART:20190310T100000
END:DAYLIGHT
BEGIN:STANDARD
TZOFFSETFROM:-0700
TZOFFSETTO:-0800
TZNAME:PST
DTSTART:20191103T090000
END:STANDARD
BEGIN:DAYLIGHT
TZOFFSETFROM:-0800
TZOFFSETTO:-0700
TZNAME:PDT
DTSTART:20200308T100000
END:DAYLIGHT
BEGIN:STANDARD
TZOFFSETFROM:-0700
TZOFFSETTO:-0800
TZNAME:PST
DTSTART:20201101T090000
END:STANDARD
END:VTIMEZONE
BEGIN:VEVENT
DTSTART;VALUE=DATE:20190324
DTEND;VALUE=DATE:20190325
DTSTAMP:20260421T135803
CREATED:20190315T203207Z
LAST-MODIFIED:20190315T203207Z
UID:10094-1553385600-1553471999@eslt.org
SUMMARY:Flash Foxy Stewardship Day with BLM
DESCRIPTION:Join Eastern Sierra Land Trust and Bureau of Land Management for a cleanup during the Women&#146;s Flash Foxy Climbing Festival. We will be working on cleaning up a few favorite spots around Bishop. Space is limited\, so please email marie@eslt.org or call (760) 873-4554 to RSVP and for more information.
URL:https://eslt.org/event/flash-foxy-stewardship-day-with-blm/
CATEGORIES:Volunteer Events
ATTACH;FMTTYPE=image/png:https://eslt.org/wp-content/uploads/2019/03/flash_foxy.png
ORGANIZER;CN="Marie%2C ESLT Education Coordinator and AmeriCorps Member":MAILTO:marie@eslt.org
END:VEVENT
END:VCALENDAR