BEGIN:VCALENDAR
VERSION:2.0
PRODID:-//Eastern Sierra Land Trust - ECPv6.15.20//NONSGML v1.0//EN
CALSCALE:GREGORIAN
METHOD:PUBLISH
X-ORIGINAL-URL:https://eslt.org
X-WR-CALDESC:Events for Eastern Sierra Land Trust
REFRESH-INTERVAL;VALUE=DURATION:PT1H
X-Robots-Tag:noindex
X-PUBLISHED-TTL:PT1H
BEGIN:VTIMEZONE
TZID:America/Los_Angeles
BEGIN:DAYLIGHT
TZOFFSETFROM:-0800
TZOFFSETTO:-0700
TZNAME:PDT
DTSTART:20180311T100000
END:DAYLIGHT
BEGIN:STANDARD
TZOFFSETFROM:-0700
TZOFFSETTO:-0800
TZNAME:PST
DTSTART:20181104T090000
END:STANDARD
BEGIN:DAYLIGHT
TZOFFSETFROM:-0800
TZOFFSETTO:-0700
TZNAME:PDT
DTSTART:20190310T100000
END:DAYLIGHT
BEGIN:STANDARD
TZOFFSETFROM:-0700
TZOFFSETTO:-0800
TZNAME:PST
DTSTART:20191103T090000
END:STANDARD
BEGIN:DAYLIGHT
TZOFFSETFROM:-0800
TZOFFSETTO:-0700
TZNAME:PDT
DTSTART:20200308T100000
END:DAYLIGHT
BEGIN:STANDARD
TZOFFSETFROM:-0700
TZOFFSETTO:-0800
TZNAME:PST
DTSTART:20201101T090000
END:STANDARD
END:VTIMEZONE
BEGIN:VEVENT
DTSTART;TZID=America/Los_Angeles:20190309T140000
DTEND;TZID=America/Los_Angeles:20190309T170000
DTSTAMP:20260421T120851
CREATED:20181220T211016Z
LAST-MODIFIED:20190302T222218Z
UID:9760-1552140000-1552150800@eslt.org
SUMMARY:Mule Deer Migration Field Trip
DESCRIPTION:Join us for an informative tour of the Round Valley mule deer herd&#146;s migration corridor. Biologist Tim Taylor with the California Department of Fish and Wildlife will share updates on how the deer are doing over the winter as we explore the beautiful Round Valley migration area. \nThis is a free family-friendly event\, but please leave your canine friends at home this time. Binoculars are recommended but not required\, and remember to dress accordingly for the weather. Light snacks and refreshments will be provided. \nFor more information (including meeting location) and to RSVP\, please contact Marie Ring\, ESLT Education Coordinator and AmeriCorps Member\, at  or (760) 873 &#150; 4554. \n 
URL:https://eslt.org/event/mule-deer-migration-field-trip/
ATTACH;FMTTYPE=image/jpeg:https://eslt.org/wp-content/uploads/2018/12/DSC0024.jpg
ORGANIZER;CN="Marie%2C ESLT Education Coordinator and AmeriCorps Member":MAILTO:marie@eslt.org
END:VEVENT
END:VCALENDAR