BEGIN:VCALENDAR
VERSION:2.0
PRODID:-//Eastern Sierra Land Trust - ECPv6.15.20//NONSGML v1.0//EN
CALSCALE:GREGORIAN
METHOD:PUBLISH
X-WR-CALNAME:Eastern Sierra Land Trust
X-ORIGINAL-URL:https://eslt.org
X-WR-CALDESC:Events for Eastern Sierra Land Trust
REFRESH-INTERVAL;VALUE=DURATION:PT1H
X-Robots-Tag:noindex
X-PUBLISHED-TTL:PT1H
BEGIN:VTIMEZONE
TZID:America/Los_Angeles
BEGIN:DAYLIGHT
TZOFFSETFROM:-0800
TZOFFSETTO:-0700
TZNAME:PDT
DTSTART:20170312T100000
END:DAYLIGHT
BEGIN:STANDARD
TZOFFSETFROM:-0700
TZOFFSETTO:-0800
TZNAME:PST
DTSTART:20171105T090000
END:STANDARD
BEGIN:DAYLIGHT
TZOFFSETFROM:-0800
TZOFFSETTO:-0700
TZNAME:PDT
DTSTART:20180311T100000
END:DAYLIGHT
BEGIN:STANDARD
TZOFFSETFROM:-0700
TZOFFSETTO:-0800
TZNAME:PST
DTSTART:20181104T090000
END:STANDARD
BEGIN:DAYLIGHT
TZOFFSETFROM:-0800
TZOFFSETTO:-0700
TZNAME:PDT
DTSTART:20190310T100000
END:DAYLIGHT
BEGIN:STANDARD
TZOFFSETFROM:-0700
TZOFFSETTO:-0800
TZNAME:PST
DTSTART:20191103T090000
END:STANDARD
END:VTIMEZONE
BEGIN:VEVENT
DTSTART;TZID=America/Los_Angeles:20180926T170000
DTEND;TZID=America/Los_Angeles:20180926T200000
DTSTAMP:20260419T094725
CREATED:20180914T005540Z
LAST-MODIFIED:20180917T175346Z
UID:9658-1537981200-1537992000@eslt.org
SUMMARY:Pint$ 4 Non-Profits - ESLT night at Mammoth Brewery!
DESCRIPTION:Join one of our \, Rick Kattelmann\, for a slideshow on snow in Central Asia at Mammoth Brewery on September 26th. $1 per pint goes to support Eastern Sierra Land Trust! Rick is an accomplished hydrologist and photographer\, and sure to share a great collection of images and stories. \nFor more details\, see Adventure HUB’s Pint$ 4 Non-Profits . \nThank you\, Mammoth Brewery Company and the Adventure HUB\, for hosting these series of engaging and meaningful conversations on health\, environment\, art\, and our mountain culture. \nSept 26 – Rick Kattelmann – Seeking Snow: Central Asia to the Sierra \n5-6 pm meet and greet with speakers and non-profit members. Presentations @ 6 pm.\nMake it a night\, gourmet food from the Eatery and tasty pints available for purchase.
URL:https://eslt.org/event/pint-4-non-profits-eslt-night-at-mammoth-brewery/
LOCATION:Mammoth Brewing Company\, 18 Lake Mary Rd\, Mammoth Lakes\, CA\, 93546
ATTACH;FMTTYPE=image/jpeg:https://eslt.org/wp-content/uploads/2018/09/Rick-Kattelmann-Asia.jpg
END:VEVENT
END:VCALENDAR