BEGIN:VCALENDAR
VERSION:2.0
PRODID:-//Eastern Sierra Land Trust - ECPv6.15.20//NONSGML v1.0//EN
CALSCALE:GREGORIAN
METHOD:PUBLISH
X-WR-CALNAME:Eastern Sierra Land Trust
X-ORIGINAL-URL:https://eslt.org
X-WR-CALDESC:Events for Eastern Sierra Land Trust
REFRESH-INTERVAL;VALUE=DURATION:PT1H
X-Robots-Tag:noindex
X-PUBLISHED-TTL:PT1H
BEGIN:VTIMEZONE
TZID:America/Los_Angeles
BEGIN:DAYLIGHT
TZOFFSETFROM:-0800
TZOFFSETTO:-0700
TZNAME:PDT
DTSTART:20180311T100000
END:DAYLIGHT
BEGIN:STANDARD
TZOFFSETFROM:-0700
TZOFFSETTO:-0800
TZNAME:PST
DTSTART:20181104T090000
END:STANDARD
BEGIN:DAYLIGHT
TZOFFSETFROM:-0800
TZOFFSETTO:-0700
TZNAME:PDT
DTSTART:20190310T100000
END:DAYLIGHT
BEGIN:STANDARD
TZOFFSETFROM:-0700
TZOFFSETTO:-0800
TZNAME:PST
DTSTART:20191103T090000
END:STANDARD
BEGIN:DAYLIGHT
TZOFFSETFROM:-0800
TZOFFSETTO:-0700
TZNAME:PDT
DTSTART:20200308T100000
END:DAYLIGHT
BEGIN:STANDARD
TZOFFSETFROM:-0700
TZOFFSETTO:-0800
TZNAME:PST
DTSTART:20201101T090000
END:STANDARD
END:VTIMEZONE
BEGIN:VEVENT
DTSTART;TZID=America/Los_Angeles:20190718T080000
DTEND;TZID=America/Los_Angeles:20190718T100000
DTSTAMP:20260421T170953
CREATED:20190626T214411Z
LAST-MODIFIED:20190702T174155Z
UID:10869-1563436800-1563444000@eslt.org
SUMMARY:Adopt-a-Highway Cleanup Day
DESCRIPTION:We need your help keeping Highway 395 beautiful and trash-free. On July 18th from 8-10 a.m.\, we’ll come together to clean the stretch of highway that ESLT has adopted. Please bring a hat\, sunscreen\, water\, and sunglasses. We hope to see you there! \nFor more information or to volunteer\, please contact Marie at  or by calling (760) 873 &#150; 4554. And stay posted – we may add more cleanup dates in the future!
URL:https://eslt.org/event/adopt-a-highway-cleanup-day/
LOCATION:Highway 395
CATEGORIES:Volunteer Events
ATTACH;FMTTYPE=image/jpeg:https://eslt.org/wp-content/uploads/2019/06/highway_fb_post.jpg
END:VEVENT
BEGIN:VEVENT
DTSTART;TZID=America/Los_Angeles:20190724T170000
DTEND;TZID=America/Los_Angeles:20190724T183000
DTSTAMP:20260421T170953
CREATED:20190627T182414Z
LAST-MODIFIED:20190627T230326Z
UID:10888-1563987600-1563993000@eslt.org
SUMMARY:Wild Side Backyard Mixer
DESCRIPTION:Come mingle at our WILD summer wildlife-themed mixer! We’ll snack and enjoy drinks while learning and chatting about animals. We’re looking forward to hearing fun facts and stories from other members of our local community who work alongside us protecting land for wildlife. Feel free to come with wildlife-related questions – we’ll be studying our sage grouse facts in the meantime. See you there! \nRSVPs are helpful but not required. Please email Marie at  or call (760) 873 &#150; 4554 if you plan to attend.
URL:https://eslt.org/event/wild-side-backyard-mixer/
LOCATION:Eastern Sierra Land Trust Office Backyard\, 250 N. Fowler Street\, Bishop\, CA\, 93514\, United States
ATTACH;FMTTYPE=image/jpeg:https://eslt.org/wp-content/uploads/2019/06/KS_Mixer_Edit-1@03x_rec.jpg
END:VEVENT
BEGIN:VEVENT
DTSTART;TZID=America/Los_Angeles:20190725T080000
DTEND;TZID=America/Los_Angeles:20190725T120000
DTSTAMP:20260421T170953
CREATED:20190625T011441Z
LAST-MODIFIED:20190710T235311Z
UID:10787-1564041600-1564056000@eslt.org
SUMMARY:Volunteer Stewardship Day at Conway and Mattly Ranches
DESCRIPTION:Calling all volunteers! Come join our July 25th stewardship day\, hosted by Eastern Sierra Land Trust and Mono County at Conway and Mattly Ranches. We will focus on removing a non-native species called Wooly Mullein\, especially near the aquaculture zone\, along irrigation ditches\, and throughout a wildlife enhancement area. \nWe will be walking ditches and using shovels\, rakes\, and loppers to remove plants from the ground. Removing non-native species early in the growing season prevents those plants from going to seed\, thus stopping their spread.\n \nPlease remember to bring boots\, hats to protect from sun and bugs\, gloves for those with soft hands\, lots of water\, and your own tools if you would like to use them. Shared tools will also be available. \nTo volunteer or find out more\, contact Marie at  or call (760) 873 &#150; 4554.
URL:https://eslt.org/event/july-2019-stewardship-day/
LOCATION:Conway and Mattley Ranches
CATEGORIES:Volunteer Events
ATTACH;FMTTYPE=image/jpeg:https://eslt.org/wp-content/uploads/2019/06/Volunteers-at-Conway-June-2016.jpg
ORGANIZER;CN="Marie%2C ESLT Education Coordinator and AmeriCorps Member":MAILTO:marie@eslt.org
END:VEVENT
END:VCALENDAR