BEGIN:VCALENDAR
VERSION:2.0
PRODID:-//Eastern Sierra Land Trust - ECPv6.15.20//NONSGML v1.0//EN
CALSCALE:GREGORIAN
METHOD:PUBLISH
X-ORIGINAL-URL:https://eslt.org
X-WR-CALDESC:Events for Eastern Sierra Land Trust
REFRESH-INTERVAL;VALUE=DURATION:PT1H
X-Robots-Tag:noindex
X-PUBLISHED-TTL:PT1H
BEGIN:VTIMEZONE
TZID:America/Los_Angeles
BEGIN:DAYLIGHT
TZOFFSETFROM:-0800
TZOFFSETTO:-0700
TZNAME:PDT
DTSTART:20180311T100000
END:DAYLIGHT
BEGIN:STANDARD
TZOFFSETFROM:-0700
TZOFFSETTO:-0800
TZNAME:PST
DTSTART:20181104T090000
END:STANDARD
BEGIN:DAYLIGHT
TZOFFSETFROM:-0800
TZOFFSETTO:-0700
TZNAME:PDT
DTSTART:20190310T100000
END:DAYLIGHT
BEGIN:STANDARD
TZOFFSETFROM:-0700
TZOFFSETTO:-0800
TZNAME:PST
DTSTART:20191103T090000
END:STANDARD
BEGIN:DAYLIGHT
TZOFFSETFROM:-0800
TZOFFSETTO:-0700
TZNAME:PDT
DTSTART:20200308T100000
END:DAYLIGHT
BEGIN:STANDARD
TZOFFSETFROM:-0700
TZOFFSETTO:-0800
TZNAME:PST
DTSTART:20201101T090000
END:STANDARD
END:VTIMEZONE
BEGIN:VEVENT
DTSTART;TZID=America/Los_Angeles:20190608T090000
DTEND;TZID=America/Los_Angeles:20190608T130000
DTSTAMP:20260421T153638
CREATED:20190408T174649Z
LAST-MODIFIED:20190524T004210Z
UID:10252-1559984400-1559998800@eslt.org
SUMMARY:Garden Inspiration Tour
DESCRIPTION:Locals across the Eastern Sierra have been hard at work creating beautiful pollinator-friendly gardens filled with flourishing native plants. During our Garden Tour\, you can see some of these lovely gardens in bloom\, learn more about pollinator-friendly gardening\, and come away with buckets of inspiration for your garden! \nThe tour will be self-guided – to pick up a map and information about the featured gardens\, you can contact Marie at marie@eslt.org or (760) 873-4554\, or you can stop by the ESLT office at 9AM on June 8.
URL:https://eslt.org/event/pollinator-garden-tour-2-2/
LOCATION:Eastern Sierra Land Trust\, 250 N. Fowler Street\, Bishop\, CA\, 93514\, United States
CATEGORIES:Pollinator Gardens
ATTACH;FMTTYPE=image/jpeg:https://eslt.org/wp-content/uploads/2019/04/land-trust-garden-tours-0005.jpg
ORGANIZER;CN="Marie%2C ESLT Education Coordinator and AmeriCorps Member":MAILTO:marie@eslt.org
END:VEVENT
END:VCALENDAR