BEGIN:VCALENDAR
VERSION:2.0
PRODID:-//Eastern Sierra Land Trust - ECPv6.15.20//NONSGML v1.0//EN
CALSCALE:GREGORIAN
METHOD:PUBLISH
X-WR-CALNAME:Eastern Sierra Land Trust
X-ORIGINAL-URL:https://eslt.org
X-WR-CALDESC:Events for Eastern Sierra Land Trust
REFRESH-INTERVAL;VALUE=DURATION:PT1H
X-Robots-Tag:noindex
X-PUBLISHED-TTL:PT1H
BEGIN:VTIMEZONE
TZID:America/Los_Angeles
BEGIN:DAYLIGHT
TZOFFSETFROM:-0800
TZOFFSETTO:-0700
TZNAME:PDT
DTSTART:20240310T100000
END:DAYLIGHT
BEGIN:STANDARD
TZOFFSETFROM:-0700
TZOFFSETTO:-0800
TZNAME:PST
DTSTART:20241103T090000
END:STANDARD
BEGIN:DAYLIGHT
TZOFFSETFROM:-0800
TZOFFSETTO:-0700
TZNAME:PDT
DTSTART:20250309T100000
END:DAYLIGHT
BEGIN:STANDARD
TZOFFSETFROM:-0700
TZOFFSETTO:-0800
TZNAME:PST
DTSTART:20251102T090000
END:STANDARD
BEGIN:DAYLIGHT
TZOFFSETFROM:-0800
TZOFFSETTO:-0700
TZNAME:PDT
DTSTART:20260308T100000
END:DAYLIGHT
BEGIN:STANDARD
TZOFFSETFROM:-0700
TZOFFSETTO:-0800
TZNAME:PST
DTSTART:20261101T090000
END:STANDARD
END:VTIMEZONE
BEGIN:VEVENT
DTSTART;TZID=America/Los_Angeles:20250606T080000
DTEND;TZID=America/Los_Angeles:20250606T103000
DTSTAMP:20260422T042347
CREATED:20250429T192210Z
LAST-MODIFIED:20250531T231539Z
UID:17237-1749196800-1749205800@eslt.org
SUMMARY:Adopt-A-Highway Cleanup
DESCRIPTION:We’re hosting a highway cleanup on Friday\, June 6 from 8:00–10:30 AM to remove trash from Eastern Sierra Land Trust’s adopted section of Highway 395. Your help will make a big difference in keeping litter away from wildlife and protecting our region’s sensitive ecosystems. \nWe’ll meet at the ESLT office (250 N Fowler Street) at 8:00 AM and caravan together to the cleanup site. To avoid the heat\, we’ll get started early. Please wear long pants to protect against thistle\, bring a water bottle\, and use sun protection. We also recommend bringing a backpack to carry your essentials\, as we’ll be walking up to a mile along the highway. \nESLT will provide trash bags\, grabbers\, leather gloves\, bright vests\, and hard hats—just bring your energy and a readiness to make a positive impact! \nRSVP here!
URL:https://eslt.org/event/adopt-a-highway-cleanup-3/
CATEGORIES:Volunteer Events
ATTACH;FMTTYPE=image/jpeg:https://eslt.org/wp-content/uploads/2023/08/332990880_761895101871405_6708437632448067230_n.jpg
END:VEVENT
END:VCALENDAR