BEGIN:VCALENDAR
VERSION:2.0
PRODID:-//Eastern Sierra Land Trust - ECPv6.15.20//NONSGML v1.0//EN
CALSCALE:GREGORIAN
METHOD:PUBLISH
X-WR-CALNAME:Eastern Sierra Land Trust
X-ORIGINAL-URL:https://eslt.org
X-WR-CALDESC:Events for Eastern Sierra Land Trust
REFRESH-INTERVAL;VALUE=DURATION:PT1H
X-Robots-Tag:noindex
X-PUBLISHED-TTL:PT1H
BEGIN:VTIMEZONE
TZID:America/Los_Angeles
BEGIN:DAYLIGHT
TZOFFSETFROM:-0800
TZOFFSETTO:-0700
TZNAME:PDT
DTSTART:20240310T100000
END:DAYLIGHT
BEGIN:STANDARD
TZOFFSETFROM:-0700
TZOFFSETTO:-0800
TZNAME:PST
DTSTART:20241103T090000
END:STANDARD
BEGIN:DAYLIGHT
TZOFFSETFROM:-0800
TZOFFSETTO:-0700
TZNAME:PDT
DTSTART:20250309T100000
END:DAYLIGHT
BEGIN:STANDARD
TZOFFSETFROM:-0700
TZOFFSETTO:-0800
TZNAME:PST
DTSTART:20251102T090000
END:STANDARD
BEGIN:DAYLIGHT
TZOFFSETFROM:-0800
TZOFFSETTO:-0700
TZNAME:PDT
DTSTART:20260308T100000
END:DAYLIGHT
BEGIN:STANDARD
TZOFFSETFROM:-0700
TZOFFSETTO:-0800
TZNAME:PST
DTSTART:20261101T090000
END:STANDARD
END:VTIMEZONE
BEGIN:VEVENT
DTSTART;TZID=America/Los_Angeles:20250426T090000
DTEND;TZID=America/Los_Angeles:20250426T120000
DTSTAMP:20260421T135939
CREATED:20250304T195149Z
LAST-MODIFIED:20250409T204922Z
UID:17200-1745658000-1745668800@eslt.org
SUMMARY:Pollinator Garden Workshop
DESCRIPTION:Join Eastern Sierra Land Trust for an enlightening workshop learning from local experts to design\, redesign\, or improve your pollinator garden with best practices\, techniques\, and insight. \nDate & Time: April 26 from 9:00am-12:00pm \nLocation: Bishop City Hall- Council Chambers. Entrance on Church Street. Please park in Church Street Parking Lot. \nSchedule:  \n9:00-9:15  Morning Mingle. Enjoy coffee and pastries. \n9:15 – 9:35 Introduction to Pollinator Gardens. Learn the basics and importance of creating a pollinator garden. Presented by Gena Wood- Eastern Sierra Land Trust. \n9:35-10:05 Design For Wildlife. Learn how to design or redesign your pollinator garden with wildlife in mind. Presented by Pete Pumphrey \n10:05-10:10 Short Break \n10:10-10:40  Design for Fire. Learn how you can improve your garden and home’s risk of fire with these firewise gardening tips. Presented by Roberta Lagomarsini- UC Master Gardeners of Inyo and Mono Counties. \n10:40- 11:10 Healthy Soils for Healthy Plants. Learn more about your garden’s foundation\, how soil supports the entire food web\, and how you can improve your garden’s soil. Presented by Julie Fontaine- Habitat Restoration Specialist. \n11:10-11:15 Short Break \n11:15-11:45 Planting with Native Plants. Learn best practices for including native plants in your garden and learn more about the ones you might want to incorporate into your garden. Presented by Katie Quinlan- California Native Plant Society\, Bristlecone Chapter. \n11:45-12:00 Wrap up and Questions \nSpace is limited\, so please make sure to RSVP if you plan to attend.  \nThank you to the UC Master Gardeners\, California Native Plant Society\, and each presenter for their help in organizing this wonderful event. \n  \nRSVP Now!
URL:https://eslt.org/event/pollinator-garden-workshop-5/
LOCATION:Bishop City Hall- Council Chambers
CATEGORIES:Pollinator Gardens
ATTACH;FMTTYPE=image/jpeg:https://eslt.org/wp-content/uploads/2024/01/Butterfly-in-garden.jpg
END:VEVENT
END:VCALENDAR