BEGIN:VCALENDAR
VERSION:2.0
PRODID:-//Eastern Sierra Land Trust - ECPv6.15.20//NONSGML v1.0//EN
CALSCALE:GREGORIAN
METHOD:PUBLISH
X-WR-CALNAME:Eastern Sierra Land Trust
X-ORIGINAL-URL:https://eslt.org
X-WR-CALDESC:Events for Eastern Sierra Land Trust
REFRESH-INTERVAL;VALUE=DURATION:PT1H
X-Robots-Tag:noindex
X-PUBLISHED-TTL:PT1H
BEGIN:VTIMEZONE
TZID:America/Los_Angeles
BEGIN:DAYLIGHT
TZOFFSETFROM:-0800
TZOFFSETTO:-0700
TZNAME:PDT
DTSTART:20200308T100000
END:DAYLIGHT
BEGIN:STANDARD
TZOFFSETFROM:-0700
TZOFFSETTO:-0800
TZNAME:PST
DTSTART:20201101T090000
END:STANDARD
BEGIN:DAYLIGHT
TZOFFSETFROM:-0800
TZOFFSETTO:-0700
TZNAME:PDT
DTSTART:20210314T100000
END:DAYLIGHT
BEGIN:STANDARD
TZOFFSETFROM:-0700
TZOFFSETTO:-0800
TZNAME:PST
DTSTART:20211107T090000
END:STANDARD
BEGIN:DAYLIGHT
TZOFFSETFROM:-0800
TZOFFSETTO:-0700
TZNAME:PDT
DTSTART:20220313T100000
END:DAYLIGHT
BEGIN:STANDARD
TZOFFSETFROM:-0700
TZOFFSETTO:-0800
TZNAME:PST
DTSTART:20221106T090000
END:STANDARD
BEGIN:DAYLIGHT
TZOFFSETFROM:-0800
TZOFFSETTO:-0700
TZNAME:PDT
DTSTART:20230312T100000
END:DAYLIGHT
BEGIN:STANDARD
TZOFFSETFROM:-0700
TZOFFSETTO:-0800
TZNAME:PST
DTSTART:20231105T090000
END:STANDARD
END:VTIMEZONE
BEGIN:VEVENT
DTSTART;TZID=America/Los_Angeles:20220314T180000
DTEND;TZID=America/Los_Angeles:20220314T190000
DTSTAMP:20260421T105518
CREATED:20220128T012343Z
LAST-MODIFIED:20220222T194420Z
UID:15357-1647280800-1647284400@eslt.org
SUMMARY:ESLT's Happy Place Book Club: The Home Place
DESCRIPTION:Join ESLT’s Happy Place Book Club on March 14th\, 2022 from 6-7 pm PST for an online discussion about ornithologist J. Drew Lanham’s\, The Home Place: Memoirs of a Colored Man’s Love Affair with Nature. \n \nIn his memoir\, Dr. Lanham reflects on his family history and upbringing in rural South Carolina\, explores how he came to love the natural world\, and contemplates race and identity in the outdoors. \nSupport our local businesses and pick up a copy from the book club shelf at Spellbinder Books! If you mention you are a part of ESLT’s Book Club\, you will receive 10% off. Thank you to Lynne at Spellbinder Books for making this possible! \nMark your calendar for our book club event. The book club will meet on Monday\, March 14th from 6-7 pm. To RSVP for the event and get the Zoom meeting information\, contact Claire at claire@eslt.org. \n 
URL:https://eslt.org/event/eslts-happy-place-book-club-the-home-place/
CATEGORIES:ESLT Happy Place Book Club
ATTACH;FMTTYPE=image/jpeg:https://eslt.org/wp-content/uploads/2022/01/The_Home_Place.jpeg
ORGANIZER;CN="Claire%2C ESLT Education Coordinator and AmeriCorps Member":MAILTO:claire@eslt.org
END:VEVENT
BEGIN:VEVENT
DTSTART;TZID=America/Los_Angeles:20210303T180000
DTEND;TZID=America/Los_Angeles:20210303T190000
DTSTAMP:20260421T105518
CREATED:20210120T185125Z
LAST-MODIFIED:20210303T182603Z
UID:12781-1614794400-1614798000@eslt.org
SUMMARY:POSTPONED! ESLT’s Happy Place Book Club: Underland by Robert Macfarlane
DESCRIPTION:You are invited to ESLT&#146;s Happy Place Book Club&#146;s next meeting! \nPOSTPONED! Stay tuned for a new date soon… \nWednesday\, March 3rd\, 2021 from 6-7PM (PST)\nUnderland: A Deep Time Journey by Robert Macfarlane \n \nWe notice flora\, fauna\, and even fungi\, surrounding us daily. Let&#146;s journey into a part of the natural world that we don&#146;t necessarily see&#133; at all. Come shift your perspective with us and get curious about what goes on underground. \nJoin us in a Zoom meeting to discuss the first half of Robert Macfarlane&#146;s book\, Underland: A Deep Time Journey.  The first half is going to be First Chamber and Second Chamber (or up to page 211). \nTo RSVP and to receive Zoom meeting information\, contact Gabrielle at . \nPlease consider supporting Bishop&#146;s local bookstore Spellbinder Books or Mammoth&#146;s local bookstore\, the Booky Joint for your literary needs! At Spellbinder Books\, mention you are a part of ESLT&#146;s book club and receive 10% off.  They typically have this book\, however if out of stock\, they are happy to order it for you. \nI look forward to another inspiring conversation together! \n 
URL:https://eslt.org/event/eslt-happy-place-book-club-underland-a-deep-time-journey-by-robert-macfarlane/
CATEGORIES:ESLT Happy Place Book Club
ATTACH;FMTTYPE=image/jpeg:https://eslt.org/wp-content/uploads/2021/01/Book-Club-FB-header-Underland-WP-1.jpg
ORGANIZER;CN="Gabrielle%3A ESLT Education Coordinator and AmeriCorps Member":MAILTO:gabrielle@eslt.org
END:VEVENT
END:VCALENDAR